BEGIN:VCALENDAR
VERSION:2.0
PRODID:-//EventsCase//EventsCase//EN
BEGIN:VEVENT
TZID:UTC
TZ:+00
UID:69e67197e7fee
DTSTAMP:20260420T183359Z
SUMMARY:Networking/One-to-one meetings/ Exhibition
DESCRIPTION:https://waterfront.eventscase.com/agenda/event/38121
LOCATION:
DTSTART:20201015T101500Z
DTEND:20201015T120000Z
X-ALT-DESC;FMTTYPE=text/html;ENCODING=QUOTED-PRINTABLE:https://waterfront.e
 ventscase.com/agenda/event/38121
END:VEVENT
END:VCALENDAR