BEGIN:VCALENDAR
VERSION:2.0
PRODID:-//EventsCase//EventsCase//EN
BEGIN:VEVENT
TZID:UTC
TZ:+00
UID:69e672cea2bf2
DTSTAMP:20260420T183910Z
SUMMARY:Session Two: Thursday 15th   2.00pm – 4.00pm  Decarbonising the J
 ourney Ahead
DESCRIPTION:https://waterfront.eventscase.com/agenda/event/38121
LOCATION:
DTSTART:20201015T130000Z
DTEND:20201015T130500Z
X-ALT-DESC;FMTTYPE=text/html;ENCODING=QUOTED-PRINTABLE:https://waterfront.e
 ventscase.com/agenda/event/38121
END:VEVENT
END:VCALENDAR