BEGIN:VCALENDAR
VERSION:2.0
PRODID:-//EventsCase//EventsCase//EN
BEGIN:VEVENT
TZID:UTC
TZ:+00
UID:69ea250a7d898
DTSTAMP:20260423T135626Z
SUMMARY:Nationally Significant Infrastructure Planning: Project Speed and t
 he view from Government
DESCRIPTION:https://waterfront.eventscase.com/agenda/event/38569
LOCATION:
DTSTART:20210322T094000Z
DTEND:20210322T100500Z
X-ALT-DESC;FMTTYPE=text/html;ENCODING=QUOTED-PRINTABLE:https://waterfront.e
 ventscase.com/agenda/event/38569
END:VEVENT
END:VCALENDAR