BEGIN:VCALENDAR
VERSION:2.0
PRODID:-//EventsCase//EventsCase//EN
BEGIN:VEVENT
TZID:UTC
TZ:+00
UID:69ea546815aea
DTSTAMP:20260423T171832Z
SUMMARY:Panel discussion: How to ensure that decarbonisation targets are me
 t and decarbonisation projects – new\, planned\, and underway – are de
 livered?
DESCRIPTION:https://waterfront.eventscase.com/agenda/event/38570
LOCATION:
DTSTART:20210303T135000Z
DTEND:20210303T143500Z
X-ALT-DESC;FMTTYPE=text/html;ENCODING=QUOTED-PRINTABLE:https://waterfront.e
 ventscase.com/agenda/event/38570
END:VEVENT
END:VCALENDAR