BEGIN:VCALENDAR
VERSION:2.0
PRODID:-//EventsCase//EventsCase//EN
BEGIN:VEVENT
TZID:UTC
TZ:+00
UID:69ea6da57984d
DTSTAMP:20260423T190613Z
SUMMARY:Networking and afternoon break
DESCRIPTION:https://waterfront.eventscase.com/agenda/event/38570
LOCATION:
DTSTART:20210303T145500Z
DTEND:20210303T152500Z
X-ALT-DESC;FMTTYPE=text/html;ENCODING=QUOTED-PRINTABLE:https://waterfront.e
 ventscase.com/agenda/event/38570
END:VEVENT
END:VCALENDAR