BEGIN:VCALENDAR
VERSION:2.0
PRODID:-//EventsCase//EventsCase//EN
BEGIN:VEVENT
TZID:UTC
TZ:+00
UID:69e76aa50425f
DTSTAMP:20260421T121637Z
SUMMARY:How to implement compulsory purchase powers
DESCRIPTION:https://waterfront.eventscase.com/agenda/event/38878
LOCATION:
DTSTART:20210427T125000Z
DTEND:20210427T131000Z
X-ALT-DESC;FMTTYPE=text/html;ENCODING=QUOTED-PRINTABLE:https://waterfront.e
 ventscase.com/agenda/event/38878
END:VEVENT
END:VCALENDAR