BEGIN:VCALENDAR
VERSION:2.0
PRODID:-//EventsCase//EventsCase//EN
BEGIN:VEVENT
TZID:UTC
TZ:+00
UID:69eac05585994
DTSTAMP:20260424T005901Z
SUMMARY:Close of conference and networking
DESCRIPTION:https://waterfront.eventscase.com/agenda/event/38990
LOCATION:
DTSTART:20210504T153000Z
DTEND:20210504T160000Z
X-ALT-DESC;FMTTYPE=text/html;ENCODING=QUOTED-PRINTABLE:https://waterfront.e
 ventscase.com/agenda/event/38990
END:VEVENT
END:VCALENDAR