BEGIN:VCALENDAR
VERSION:2.0
PRODID:-//EventsCase//EventsCase//EN
BEGIN:VEVENT
TZID:UTC
TZ:+00
UID:69eac018c29af
DTSTAMP:20260424T005800Z
SUMMARY:Morning Chair's closing remarks
DESCRIPTION:https://waterfront.eventscase.com/agenda/event/38990
LOCATION:
DTSTART:20210504T120000Z
DTEND:20210504T120500Z
X-ALT-DESC;FMTTYPE=text/html;ENCODING=QUOTED-PRINTABLE:https://waterfront.e
 ventscase.com/agenda/event/38990
END:VEVENT
END:VCALENDAR