BEGIN:VCALENDAR
VERSION:2.0
PRODID:-//EventsCase//EventsCase//EN
BEGIN:VEVENT
TZID:UTC
TZ:+00
UID:69ead9cc10195
DTSTAMP:20260424T024740Z
SUMMARY:Transport for London update: Latest insight on development programm
 e and overview of Transport for London’s new sustainability strategy
DESCRIPTION:https://waterfront.eventscase.com/agenda/event/39201
LOCATION:
DTSTART:20210615T084000Z
DTEND:20210615T090500Z
X-ALT-DESC;FMTTYPE=text/html;ENCODING=QUOTED-PRINTABLE:https://waterfront.e
 ventscase.com/agenda/event/39201
END:VEVENT
END:VCALENDAR