BEGIN:VCALENDAR
VERSION:2.0
PRODID:-//EventsCase//EventsCase//EN
BEGIN:VEVENT
TZID:UTC
TZ:+00
UID:69e738ea75662
DTSTAMP:20260421T084426Z
SUMMARY:Plans for freeports
DESCRIPTION:https://waterfront.eventscase.com/agenda/event/39562
LOCATION:
DTSTART:20210705T085000Z
DTEND:20210705T091000Z
X-ALT-DESC;FMTTYPE=text/html;ENCODING=QUOTED-PRINTABLE:https://waterfront.e
 ventscase.com/agenda/event/39562
END:VEVENT
END:VCALENDAR