BEGIN:VCALENDAR
VERSION:2.0
PRODID:-//EventsCase//EventsCase//EN
BEGIN:VEVENT
TZID:UTC
TZ:+00
UID:69eaf0f13725a
DTSTAMP:20260424T042625Z
SUMMARY:DfT update: The Transport Decarbonisation Plan and priorities for t
 he industry
DESCRIPTION:https://waterfront.eventscase.com/agenda/event/39686
LOCATION:60 Chiswell St\, London EC1Y 4AG
DTSTART:20210922T084000Z
DTEND:20210922T091000Z
X-ALT-DESC;FMTTYPE=text/html;ENCODING=QUOTED-PRINTABLE:https://waterfront.e
 ventscase.com/agenda/event/39686
END:VEVENT
END:VCALENDAR