BEGIN:VCALENDAR
VERSION:2.0
PRODID:-//EventsCase//EventsCase//EN
BEGIN:VEVENT
TZID:UTC
TZ:+00
UID:69eaf0d7a6334
DTSTAMP:20260424T042559Z
SUMMARY:Low carbon construction: Adopting sustainable building practices wh
 en delivering new rail infrastructure
DESCRIPTION:https://waterfront.eventscase.com/agenda/event/39686
LOCATION:60 Chiswell St\, London EC1Y 4AG
DTSTART:20210922T144500Z
DTEND:20210922T150500Z
X-ALT-DESC;FMTTYPE=text/html;ENCODING=QUOTED-PRINTABLE:https://waterfront.e
 ventscase.com/agenda/event/39686
END:VEVENT
END:VCALENDAR