BEGIN:VCALENDAR
VERSION:2.0
PRODID:-//EventsCase//EventsCase//EN
BEGIN:VEVENT
TZID:UTC
TZ:+00
UID:69e981a73aa7e
DTSTAMP:20260423T021919Z
SUMMARY:Chair’s welcome and opening remarks
DESCRIPTION:https://waterfront.eventscase.com/agenda/event/39800
LOCATION:Attend in person.  The venue is Addleshaw Goddard\, London\, 60 Ch
 iswell St\, London EC1Y 4AG
DTSTART:20211006T083000Z
DTEND:20211006T084000Z
X-ALT-DESC;FMTTYPE=text/html;ENCODING=QUOTED-PRINTABLE:https://waterfront.e
 ventscase.com/agenda/event/39800
END:VEVENT
END:VCALENDAR