BEGIN:VCALENDAR
VERSION:2.0
PRODID:-//EventsCase//EventsCase//EN
BEGIN:VEVENT
TZID:UTC
TZ:+00
UID:69e98175176e0
DTSTAMP:20260423T021829Z
SUMMARY:The current opportunities for rail freight in supporting constructi
 on
DESCRIPTION:https://waterfront.eventscase.com/agenda/event/39800
LOCATION:Attend in person.  The venue is Addleshaw Goddard\, London\, 60 Ch
 iswell St\, London EC1Y 4AG
DTSTART:20211006T122500Z
DTEND:20211006T125500Z
X-ALT-DESC;FMTTYPE=text/html;ENCODING=QUOTED-PRINTABLE:https://waterfront.e
 ventscase.com/agenda/event/39800
END:VEVENT
END:VCALENDAR